BEGIN:VCALENDAR
VERSION:2.0
PRODID:-//pretix//pretix.eu//
BEGIN:VTIMEZONE
TZID:Europe/Berlin
BEGIN:STANDARD
DTSTART:20001029T040000
RRULE:FREQ=YEARLY;BYDAY=-1SU;BYMONTH=10
TZNAME:CET
TZOFFSETFROM:+0200
TZOFFSETTO:+0100
END:STANDARD
BEGIN:DAYLIGHT
DTSTART:20000326T030000
RRULE:FREQ=YEARLY;BYDAY=-1SU;BYMONTH=3
TZNAME:CEST
TZOFFSETFROM:+0100
TZOFFSETTO:+0200
END:DAYLIGHT
END:VTIMEZONE
BEGIN:VEVENT
UID:pretix-outsidersecurity-aadtraining-0@events.outsidersecurity.nl
DTSTART;TZID=Europe/Berlin:20230605T090000
DTEND;TZID=Europe/Berlin:20230607T173000
DESCRIPTION:Tickets: https://events.outsidersecurity.nl/aadtraining/\nOrgan
 izer: Outsider Security
DTSTAMP:20260422T153910Z
LOCATION:Den Haag Centraal\, Koningin Julianaplein 10\, 2595 AA Den Haag\, 
 Netherlands
SUMMARY:Training: Offensive Azure AD and Hybrid AD security
END:VEVENT
END:VCALENDAR
