BEGIN:VCALENDAR
VERSION:2.0
PRODID:-//pretix//pretix.eu//
BEGIN:VTIMEZONE
TZID:Europe/Berlin
BEGIN:STANDARD
DTSTART:20001029T040000
RRULE:FREQ=YEARLY;BYDAY=-1SU;BYMONTH=10
TZNAME:CET
TZOFFSETFROM:+0200
TZOFFSETTO:+0100
END:STANDARD
BEGIN:DAYLIGHT
DTSTART:20000326T030000
RRULE:FREQ=YEARLY;BYDAY=-1SU;BYMONTH=3
TZNAME:CEST
TZOFFSETFROM:+0100
TZOFFSETTO:+0200
END:DAYLIGHT
END:VTIMEZONE
BEGIN:VEVENT
UID:pretix-outsidersecurity-entratraining24-0@events.outsidersecurity.nl
DTSTART;TZID=Europe/Berlin:20241209T090000
DTEND;TZID=Europe/Berlin:20241212T173000
DESCRIPTION:Tickets: https://events.outsidersecurity.nl/entratraining24/\nO
 rganizer: Outsider Security
DTSTAMP:20260421T121638Z
LOCATION:NH Hotel Den Haag\, Pr. Margrietplantsoen 100\, 2595 BR Den Haag
SUMMARY:Training: Offensive Entra ID (Azure AD) and Hybrid AD security
END:VEVENT
END:VCALENDAR
